BEGIN:VCALENDAR
VERSION:2.0
PRODID:SchoolNow
CALSCALE:GREGORIAN
BEGIN:VEVENT
UID:5be6cb0a-c576-11f0-9bed-0a58a9feac02
DTSTAMP:20260406T161118Z
SUMMARY:CDD Board Meeting - Oct. 2025
LOCATION:the Offices of Inframark located at 2005 Pan Am Circle\, Suite 300
 \, Tampa\, FL 33607
URL;VALUE=URI:https://www.sherwoodmanorcdd.com/calendar/8803797/cdd-board-m
 eeting-oct-2025
DTSTART:20251002T180000Z
DTEND:20251002T190000Z
ATTACH;FILENAME=2025-10-02 Sherwood Manor Agenda Package.pdf;FMTTYPE=applic
 ation/pdf:https://campussuite-storage.s3.amazonaws.com/prod/1559308/06aeb5
 e2-bb23-11f0-9ba4-027347f9d4e7/3086902/83360842-31d2-11f1-beca-0a58a9feac0
 2/file/2025-10-02 Sherwood Manor Agenda Package.pdf
END:VEVENT
END:VCALENDAR
