BEGIN:VCALENDAR
VERSION:2.0
PRODID:SchoolNow
CALSCALE:GREGORIAN
BEGIN:VEVENT
UID:69720c62-c576-11f0-878f-0afff9ea838f
DTSTAMP:20251121T163624Z
SUMMARY:CDD Board Meeting - Nov. 2025
LOCATION:the Offices of Inframark located at 2005 Pan Am Circle\, Suite 300
 \, Tampa\, FL 33607
URL;VALUE=URI:https://www.sherwoodmanorcdd.com/calendar/8803798/cdd-board-m
 eeting-nov-2025
DTSTART:20251106T190000Z
DTEND:20251106T200000Z
ATTACH;FILENAME=2025-11-06 - Sherwood Manor CDD - Agenda Package.pdf;FMTTYP
 E=application/pdf:https://campussuite-storage.s3.amazonaws.com/prod/155930
 8/06aeb5e2-bb23-11f0-9ba4-027347f9d4e7/3034878/f37f2a38-bc26-11f0-81f3-0a5
 8a9feac02/file/2025-11-06 - Sherwood Manor CDD - Agenda Package.pdf
END:VEVENT
END:VCALENDAR
