BEGIN:VCALENDAR
VERSION:2.0
PRODID:SchoolNow
CALSCALE:GREGORIAN
BEGIN:VEVENT
UID:869efe6c-c576-11f0-9065-02a24fa18703
DTSTAMP:20260406T161342Z
SUMMARY:CDD Board Meeting - Feb. 2026
LOCATION:the Offices of Inframark located at 2005 Pan Am Circle\, Suite 300
 \, Tampa\, FL 33607
URL;VALUE=URI:https://www.sherwoodmanorcdd.com/calendar/8803802/cdd-board-m
 eeting-feb-2026
DTSTART:20260205T190000Z
DTEND:20260205T200000Z
ATTACH;FILENAME=2026-02-05 Sherwood Manor Agenda.pdf;FMTTYPE=application/pd
 f:https://campussuite-storage.s3.amazonaws.com/prod/1559308/06aeb5e2-bb23-
 11f0-9ba4-027347f9d4e7/3086906/8336596e-31d2-11f1-9ae2-0a58a9feac02/file/2
 026-02-05 Sherwood Manor Agenda.pdf
END:VEVENT
END:VCALENDAR
