BEGIN:VCALENDAR
VERSION:2.0
PRODID:SchoolNow
CALSCALE:GREGORIAN
BEGIN:VEVENT
UID:969bbe54-c576-11f0-9b11-0affe72d166b
DTSTAMP:20260406T161255Z
SUMMARY:CDD Board Meeting - Apr. 2026
LOCATION:the Offices of Inframark located at 2005 Pan Am Circle\, Suite 300
 \, Tampa\, FL 33607
URL;VALUE=URI:https://www.sherwoodmanorcdd.com/calendar/8803804/cdd-board-m
 eeting-apr-2026
DTSTART:20260402T180000Z
DTEND:20260402T190000Z
ATTACH;FILENAME=2026-04-02 Sherwood Manor Agenda.pdf;FMTTYPE=application/pd
 f:https://campussuite-storage.s3.amazonaws.com/prod/1559308/06aeb5e2-bb23-
 11f0-9ba4-027347f9d4e7/3086904/833656ee-31d2-11f1-a6de-0a58a9feac02/file/2
 026-04-02 Sherwood Manor Agenda.pdf
END:VEVENT
END:VCALENDAR
