BEGIN:VCALENDAR
VERSION:2.0
PRODID:SchoolNow
CALSCALE:GREGORIAN
BEGIN:VEVENT
UID:a8bdff70-c576-11f0-acf4-0a58a9feac02
DTSTAMP:20251119T194354Z
SUMMARY:CDD Board Meeting - Jun. 2026
LOCATION:the Offices of Inframark located at 2005 Pan Am Circle\, Suite 300
 \, Tampa\, FL 33607
URL;VALUE=URI:https://www.sherwoodmanorcdd.com/calendar/8803806/cdd-board-m
 eeting-jun-2026
DTSTART:20260604T180000Z
DTEND:20260604T190000Z
END:VEVENT
END:VCALENDAR
