BEGIN:VCALENDAR
VERSION:2.0
PRODID:SchoolNow
CALSCALE:GREGORIAN
BEGIN:VEVENT
UID:b03dac6e-c576-11f0-9cc3-02343ccddbd9
DTSTAMP:20251119T194436Z
SUMMARY:CDD Board Meeting - Jul. 2026
LOCATION:the Offices of Inframark located at 2005 Pan Am Circle\, Suite 300
 \, Tampa\, FL 33607
URL;VALUE=URI:https://www.sherwoodmanorcdd.com/calendar/8803807/cdd-board-m
 eeting-jul-2026
DTSTART:20260702T180000Z
DTEND:20260702T190000Z
END:VEVENT
END:VCALENDAR
