BEGIN:VCALENDAR
VERSION:2.0
PRODID:SchoolNow
CALSCALE:GREGORIAN
BEGIN:VEVENT
UID:bb1cc1a6-c576-11f0-893f-0afff9ea838f
DTSTAMP:20251119T194443Z
SUMMARY:CDD Board Meeting - Aug. 2026
LOCATION:the Offices of Inframark located at 2005 Pan Am Circle\, Suite 300
 \, Tampa\, FL 33607
URL;VALUE=URI:https://www.sherwoodmanorcdd.com/calendar/8803808/cdd-board-m
 eeting-aug-2026
DTSTART:20260806T180000Z
DTEND:20260806T190000Z
END:VEVENT
END:VCALENDAR
