BEGIN:VCALENDAR
VERSION:2.0
PRODID:SchoolNow
CALSCALE:GREGORIAN
BEGIN:VEVENT
UID:2a492e3e-c6f8-11f0-9aef-0a58a9feac02
DTSTAMP:20251121T163601Z
SUMMARY:CDD Board Meeting - Sept. 2025
LOCATION:the Offices of Inframark located at 2005 Pan Am Circle\, Suite 300
 \, Tampa\, FL 33607
URL;VALUE=URI:https://www.sherwoodmanorcdd.com/calendar/8807428/cdd-board-m
 eeting-sept-2025
DTSTART:20250904T180000Z
DTEND:20250904T190000Z
ATTACH;FILENAME=2025-09-04 Sherwood Manor Meeting Book.pdf;FMTTYPE=applicat
 ion/pdf:https://campussuite-storage.s3.amazonaws.com/prod/1559308/06aeb5e2
 -bb23-11f0-9ba4-027347f9d4e7/3034890/f37f3640-bc26-11f0-a4cb-0a58a9feac02/
 file/2025-09-04 Sherwood Manor Meeting Book.pdf
END:VEVENT
END:VCALENDAR
