BEGIN:VCALENDAR
VERSION:2.0
PRODID:SchoolNow
CALSCALE:GREGORIAN
BEGIN:VEVENT
UID:f45b83be-31cb-11f1-b04a-0a58a9feac02
DTSTAMP:20260406T151907Z
SUMMARY:CDD Board Meeting - Jul. 2025
LOCATION:the Offices of Inframark located at 2005 Pan Am Circle\, Suite 300
 \, Tampa\, FL 33607
URL;VALUE=URI:https://www.sherwoodmanorcdd.com/calendar/8974333/cdd-board-m
 eeting-jul-2025
DTSTART:20250710T180000Z
DTEND:20250710T190000Z
ATTACH;FILENAME=2025-07-10 Sherwood Manor Agenda.pdf;FMTTYPE=application/pd
 f:https://campussuite-storage.s3.amazonaws.com/prod/1559308/06aeb5e2-bb23-
 11f0-9ba4-027347f9d4e7/3034946/f37f6aa2-bc26-11f0-9ae8-0a58a9feac02/file/2
 025-07-10 Sherwood Manor Agenda.pdf
END:VEVENT
END:VCALENDAR
