BEGIN:VCALENDAR
VERSION:2.0
PRODID:SchoolNow
CALSCALE:GREGORIAN
BEGIN:VEVENT
UID:1e910866-31cc-11f1-868d-0a58a9feac02
DTSTAMP:20260406T152110Z
SUMMARY:CDD Board Meeting - Jun. 2025
LOCATION:the Offices of Inframark located at 2005 Pan Am Circle\, Suite 300
 \, Tampa\, FL 33607
URL;VALUE=URI:https://www.sherwoodmanorcdd.com/calendar/8974335/cdd-board-m
 eeting-jun-2025
DTSTART:20250605T180000Z
DTEND:20250605T190000Z
ATTACH;FILENAME=2025-06-05 Sherwood Manor Agenda.pdf;FMTTYPE=application/pd
 f:https://campussuite-storage.s3.amazonaws.com/prod/1559308/06aeb5e2-bb23-
 11f0-9ba4-027347f9d4e7/3034942/f37f664c-bc26-11f0-b42f-0a58a9feac02/file/2
 025-06-05 Sherwood Manor Agenda.pdf
END:VEVENT
END:VCALENDAR
