BEGIN:VCALENDAR
VERSION:2.0
PRODID:SchoolNow
CALSCALE:GREGORIAN
BEGIN:VEVENT
UID:335807a4-31cc-11f1-a7db-0ea95dd34c39
DTSTAMP:20260406T152052Z
SUMMARY:CDD Board Meeting - May 2025
LOCATION:the Offices of Inframark located at 2005 Pan Am Circle\, Suite 300
 \, Tampa\, FL 33607
URL;VALUE=URI:https://www.sherwoodmanorcdd.com/calendar/8974336/cdd-board-m
 eeting-may-2025
DTSTART:20250501T180000Z
DTEND:20250501T190000Z
ATTACH;FILENAME=2025-05-01 Sherwood Manor Agenda.pdf;FMTTYPE=application/pd
 f:https://campussuite-storage.s3.amazonaws.com/prod/1559308/06aeb5e2-bb23-
 11f0-9ba4-027347f9d4e7/3034945/f37f68e0-bc26-11f0-93b0-0a58a9feac02/file/2
 025-05-01 Sherwood Manor Agenda.pdf
END:VEVENT
END:VCALENDAR
